BEGIN:VCALENDAR
VERSION:2.0
PRODID:-//Grand Rapids Alumnae Chapter - Delta Sigma Theta Sorority, Inc - ECPv6.15.20//NONSGML v1.0//EN
CALSCALE:GREGORIAN
METHOD:PUBLISH
X-WR-CALNAME:Grand Rapids Alumnae Chapter - Delta Sigma Theta Sorority, Inc
X-ORIGINAL-URL:https://gracdeltas.org
X-WR-CALDESC:Events for Grand Rapids Alumnae Chapter - Delta Sigma Theta Sorority, Inc
REFRESH-INTERVAL;VALUE=DURATION:PT1H
X-Robots-Tag:noindex
X-PUBLISHED-TTL:PT1H
BEGIN:VTIMEZONE
TZID:UTC
BEGIN:STANDARD
TZOFFSETFROM:+0000
TZOFFSETTO:+0000
TZNAME:UTC
DTSTART:20230101T000000
END:STANDARD
END:VTIMEZONE
BEGIN:VEVENT
DTSTART;TZID=UTC:20260307T100000
DTEND;TZID=UTC:20260307T140000
DTSTAMP:20260423T193854
CREATED:20260121T010637Z
LAST-MODIFIED:20260121T010637Z
UID:733-1772877600-1772892000@gracdeltas.org
SUMMARY:38th Annual Jazz Brunch Scholarship Fundraiser
DESCRIPTION:🎟️ TICKETS ON SALE NOW!! 🎟️ The Grand Rapids Alumnae Chapter of Delta Sigma Theta Sorority Inc.\, Jazz Brunch 2026 tickets are live! Be sure to grab a ticket before they’re sold out. ✨This is a tradition you don’t want to miss—38 years strong and still swinging! ✨ \n🎷Motown Meets Millennials  and we look forward to seeing you there! 🎶
URL:https://gracdeltas.org/events/38th-annual-jazz-brunch-scholarship-fundraiser/
LOCATION:Noto’s Old World Dining\, 6600 28th St. SE\, Grand Rapids\, MI\, 49546\, United States
END:VEVENT
BEGIN:VEVENT
DTSTART;TZID=UTC:20250511T140000
DTEND;TZID=UTC:20250511T180000
DTSTAMP:20260423T193854
CREATED:20250329T201415Z
LAST-MODIFIED:20250329T201551Z
UID:679-1746972000-1746986400@gracdeltas.org
SUMMARY:Mother's Day Banquet & Fashion Show
DESCRIPTION:
URL:https://gracdeltas.org/events/mothers-day-banquet-fashion-show/
LOCATION:Calvin College: Prince Conference Center\, 1800 E. Beltline Ave SE\, Grand Rapids\, MI\, 49546\, United States
END:VEVENT
BEGIN:VEVENT
DTSTART;TZID=UTC:20250301T100000
DTEND;TZID=UTC:20250301T140000
DTSTAMP:20260423T193854
CREATED:20241125T112918Z
LAST-MODIFIED:20250104T233916Z
UID:600-1740823200-1740837600@gracdeltas.org
SUMMARY:37th Annual Jazz Brunch Scholarship Fundraiser
DESCRIPTION:Join us on March 1\, 2025\, for the 37th Annual Jazz Brunch Scholarship Fundraiser.  This year’s theme is “In Livin’ Color”\, celebrating vibrant music\, scholarship program\, and the community. \nSpread the word—tell a friend to tell a friend! Mark your calendars- tickets go on sale January 6\, 2025.  \nGrab your Tickets Here!
URL:https://gracdeltas.org/events/jazzbrunch/
LOCATION:Noto’s Old World Dining\, 6600 28th St. SE\, Grand Rapids\, MI\, 49546\, United States
END:VEVENT
BEGIN:VEVENT
DTSTART;TZID=UTC:20250216T150000
DTEND;TZID=UTC:20250216T161500
DTSTAMP:20260423T193854
CREATED:20250120T154049Z
LAST-MODIFIED:20250120T154907Z
UID:655-1739718000-1739722500@gracdeltas.org
SUMMARY:Free Scholarship Workshop
DESCRIPTION:Register for the Free Scholarship Workshop\, here\nEarly registrants will be entered into a raffle.\n \n2025 Scholarships are now open. For more details on how to apply\, click here.
URL:https://gracdeltas.org/events/free-scholarship-workshop/
LOCATION:MI
END:VEVENT
BEGIN:VEVENT
DTSTART;TZID=UTC:20241201T190000
DTEND;TZID=UTC:20241201T200000
DTSTAMP:20260423T193854
CREATED:20241101T113445Z
LAST-MODIFIED:20241125T173544Z
UID:608-1733079600-1733083200@gracdeltas.org
SUMMARY:World AIDS Day Panel Discussion
DESCRIPTION:On Sunday\, December 1\, 2024\, join us in recognizing World AIDS Day with a powerful panel discussion. Let’s come together to learn\, dispel myths\, and support efforts to end the HIV/AIDS epidemic! \n????Register here: https://tinyurl.com/GRACWORLDAIDSDAY\n????You can also scan the QR code below to register. \nShare with a friend and see you there!\n#WorldAIDSDay #gracdst\n#internationalawarenessandinvolvement \n 
URL:https://gracdeltas.org/events/world-aids-day-panel/
LOCATION:MI
END:VEVENT
BEGIN:VEVENT
DTSTART;VALUE=DATE:20240830
DTEND;VALUE=DATE:20240901
DTSTAMP:20260423T193854
CREATED:20240721T231802Z
LAST-MODIFIED:20240721T232421Z
UID:465-1724976000-1725148799@gracdeltas.org
SUMMARY:Round Up (Members Only)
DESCRIPTION:This year’s Round Up promises to be another memorable occasion\, focusing on engaging our sorors while also making an impact in the community. The committee has many surprises planned and activities designed to celebrate our sisterhood and expand our outreach in the community. More details will be shared as plans are finalized\, so stay tuned!  
URL:https://gracdeltas.org/events/round-up/
LOCATION:MI
END:VEVENT
BEGIN:VEVENT
DTSTART;VALUE=DATE:20240726
DTEND;VALUE=DATE:20240731
DTSTAMP:20260423T193854
CREATED:20240721T232052Z
LAST-MODIFIED:20240722T131158Z
UID:469-1721952000-1722383999@gracdeltas.org
SUMMARY:Double Good Popcorn Fundraiser
DESCRIPTION:As part of our ongoing commitment to support both our national partner\, St. Jude Children’s Research Hospital and Delta Community Projects\, we are excited to announce our annual virtual popcorn fundraiser in partnership with Double Good. Proceeds from the fundraiser support St. Jude Children’s Research Hospital\, Delta Community Projects\, Delta GEMS\, and Dr. Betty Shabazz Academy. \nConnect with your favorite Delta and purchase your popcorn today!
URL:https://gracdeltas.org/events/double-good-popcorn-fundraiser/
LOCATION:MI
END:VEVENT
BEGIN:VEVENT
DTSTART;TZID=UTC:20240720T170000
DTEND;TZID=UTC:20240720T230000
DTSTAMP:20260423T193854
CREATED:20240404T061403Z
LAST-MODIFIED:20240702T060215Z
UID:233-1721494800-1721516400@gracdeltas.org
SUMMARY:Jabberwock
DESCRIPTION:
URL:https://gracdeltas.org/events/jabberwock/
LOCATION:MI
END:VEVENT
BEGIN:VEVENT
DTSTART;TZID=UTC:20240716T090000
DTEND;TZID=UTC:20240716T130000
DTSTAMP:20260423T193854
CREATED:20240404T061233Z
LAST-MODIFIED:20240703T211025Z
UID:230-1721120400-1721134800@gracdeltas.org
SUMMARY:Youth & Government Conference
DESCRIPTION:
URL:https://gracdeltas.org/events/youth-government-conference/
LOCATION:L. William Seidman Center\, Grand Rapids\, MI\, United States
END:VEVENT
BEGIN:VEVENT
DTSTART;TZID=UTC:20240716T000000
DTEND;TZID=UTC:20240915T235900
DTSTAMP:20260423T193854
CREATED:20240323T131316Z
LAST-MODIFIED:20240702T060244Z
UID:175-1721088000-1726444740@gracdeltas.org
SUMMARY:2024 Delta Youth Groups Application
DESCRIPTION:Calling all bright minds in Kent & Ottawa Counties!???? \nExciting news awaits! Our scholarship application officially opens tomorrow\, January 15\, presenting an incredible opportunity for graduating high school seniors and college students residing in Kent and Ottawa Counties. ???? \nIf you meet the application requirements and are ready to pursue your educational dreams\, kickstart your application today using the link in our profile. ????️ The application deadline is April 1. \nDon’t let this opportunity slip away. Whether you bookmark it\, save the link as a favorite\, or take note\, make sure not to miss your chance to secure funding for your education. \n 
URL:https://gracdeltas.org/events/2024-youth-application/
LOCATION:MI
END:VEVENT
END:VCALENDAR