BEGIN:VCALENDAR
VERSION:2.0
PRODID:-//Grand Rapids Alumnae Chapter - Delta Sigma Theta Sorority, Inc - ECPv6.15.20//NONSGML v1.0//EN
CALSCALE:GREGORIAN
METHOD:PUBLISH
X-ORIGINAL-URL:https://gracdeltas.org
X-WR-CALDESC:Events for Grand Rapids Alumnae Chapter - Delta Sigma Theta Sorority, Inc
REFRESH-INTERVAL;VALUE=DURATION:PT1H
X-Robots-Tag:noindex
X-PUBLISHED-TTL:PT1H
BEGIN:VTIMEZONE
TZID:UTC
BEGIN:STANDARD
TZOFFSETFROM:+0000
TZOFFSETTO:+0000
TZNAME:UTC
DTSTART:20250101T000000
END:STANDARD
END:VTIMEZONE
BEGIN:VEVENT
DTSTART;TZID=UTC:20260509T120000
DTEND;TZID=UTC:20260509T170000
DTSTAMP:20260423T134044
CREATED:20260330T191513Z
LAST-MODIFIED:20260330T192257Z
UID:745-1778328000-1778346000@gracdeltas.org
SUMMARY:Hats On for Mother's Day Affair
DESCRIPTION:Join us for the Mother’s Day Affair you’ve been waiting for. \n\n\nGet your hats ready!! 🎉 Come out and enjoy an amazing time with us! \n🛍️ Vendor shopping from 12–1 PM and 4–5 PM\n🎟️ Tickets are ON SALE NOW — don’t wait!
URL:https://gracdeltas.org/events/745/
LOCATION:Sunnybrook Country Club\, 624 Port Sheldon St SW\, Grandville\, MI\, United States
END:VEVENT
END:VCALENDAR