BEGIN:VCALENDAR
VERSION:2.0
PRODID:-//Grand Rapids Alumnae Chapter - Delta Sigma Theta Sorority, Inc - ECPv6.15.20//NONSGML v1.0//EN
CALSCALE:GREGORIAN
METHOD:PUBLISH
X-ORIGINAL-URL:https://gracdeltas.org
X-WR-CALDESC:Events for Grand Rapids Alumnae Chapter - Delta Sigma Theta Sorority, Inc
REFRESH-INTERVAL;VALUE=DURATION:PT1H
X-Robots-Tag:noindex
X-PUBLISHED-TTL:PT1H
BEGIN:VTIMEZONE
TZID:UTC
BEGIN:STANDARD
TZOFFSETFROM:+0000
TZOFFSETTO:+0000
TZNAME:UTC
DTSTART:20230101T000000
END:STANDARD
END:VTIMEZONE
BEGIN:VEVENT
DTSTART;TZID=UTC:20241201T190000
DTEND;TZID=UTC:20241201T200000
DTSTAMP:20260424T092912
CREATED:20241101T113445Z
LAST-MODIFIED:20241125T173544Z
UID:608-1733079600-1733083200@gracdeltas.org
SUMMARY:World AIDS Day Panel Discussion
DESCRIPTION:On Sunday\, December 1\, 2024\, join us in recognizing World AIDS Day with a powerful panel discussion. Let’s come together to learn\, dispel myths\, and support efforts to end the HIV/AIDS epidemic! \n????Register here: https://tinyurl.com/GRACWORLDAIDSDAY\n????You can also scan the QR code below to register. \nShare with a friend and see you there!\n#WorldAIDSDay #gracdst\n#internationalawarenessandinvolvement \n 
URL:https://gracdeltas.org/events/world-aids-day-panel/
LOCATION:MI
END:VEVENT
END:VCALENDAR